BEGIN:VCALENDAR
VERSION:2.0
PRODID:-//GROW Ministry - ECPv6.15.14//NONSGML v1.0//EN
CALSCALE:GREGORIAN
METHOD:PUBLISH
X-ORIGINAL-URL:https://thegrowministry.com
X-WR-CALDESC:Events for GROW Ministry
REFRESH-INTERVAL;VALUE=DURATION:PT1H
X-Robots-Tag:noindex
X-PUBLISHED-TTL:PT1H
BEGIN:VTIMEZONE
TZID:America/New_York
BEGIN:DAYLIGHT
TZOFFSETFROM:-0500
TZOFFSETTO:-0400
TZNAME:EDT
DTSTART:20250309T070000
END:DAYLIGHT
BEGIN:STANDARD
TZOFFSETFROM:-0400
TZOFFSETTO:-0500
TZNAME:EST
DTSTART:20251102T060000
END:STANDARD
BEGIN:DAYLIGHT
TZOFFSETFROM:-0500
TZOFFSETTO:-0400
TZNAME:EDT
DTSTART:20260308T070000
END:DAYLIGHT
BEGIN:STANDARD
TZOFFSETFROM:-0400
TZOFFSETTO:-0500
TZNAME:EST
DTSTART:20261101T060000
END:STANDARD
BEGIN:DAYLIGHT
TZOFFSETFROM:-0500
TZOFFSETTO:-0400
TZNAME:EDT
DTSTART:20270314T070000
END:DAYLIGHT
BEGIN:STANDARD
TZOFFSETFROM:-0400
TZOFFSETTO:-0500
TZNAME:EST
DTSTART:20271107T060000
END:STANDARD
END:VTIMEZONE
BEGIN:VEVENT
DTSTART;TZID=America/New_York:20260626T150000
DTEND;TZID=America/New_York:20260628T130000
DTSTAMP:20260423T122739
CREATED:20260126T011031Z
LAST-MODIFIED:20260207T142759Z
UID:3781-1782486000-1782651600@thegrowministry.com
SUMMARY:DKNE Camp 2026
DESCRIPTION:
URL:https://thegrowministry.com/event/dkne-camp-2026/
LOCATION:Holy Transfiguration Retreat Center\, 1000 Seminary Rd\, Dalton\, PA\, 18414
ATTACH;FMTTYPE=image/jpeg:https://thegrowministry.com/wp-content/uploads/2026/01/a8e7bb9d-8347-4ba4-b41e-078fb1895b2d-scaled.jpeg
ORGANIZER;CN="The GROW Ministry":MAILTO:growministries2012@gmail.com
END:VEVENT
END:VCALENDAR